BEGIN:VCALENDAR
VERSION:2.0
PRODID:-//Tu Organización//NONSGML v1.0//EN
BEGIN:VEVENT
UID:69e8883f28284@tudominio.com
DTSTAMP:20260422T083511Z
DTSTART:20251127T230000Z
DTEND:20251128T010000Z
SUMMARY:Black Friday a Mataró
DESCRIPTION:Descomptes, promocions i moltes sorpreses als establiments de Mataró!Un dia perfecte per aprofitar grans oportunitats i començar les compres de Nadal amb els negocis de la ciutat.



Participa, compra i gaudeix del Black Friday amb NEM!
LOCATION:Mataró
END:VEVENT
END:VCALENDAR