BEGIN:VCALENDAR
VERSION:2.0
PRODID:-//Tu Organización//NONSGML v1.0//EN
BEGIN:VEVENT
UID:69e88be0510be@tudominio.com
DTSTAMP:20260422T085040Z
DTSTART:20260917T230000Z
DTEND:20260918T010000Z
SUMMARY:BIOSALUT – MATARÓ ACTIVIA SÈNIOR
DESCRIPTION:Esdeveniment dedicat a la salut, el benestar i l’envelliment actiu. Inclou parades, activitats, tallers i serveis enfocats al públic sènior, promovent hàbits saludables i donant visibilitat a empreses i professionals del sector.
LOCATION:Pl. Santa Anna
END:VEVENT
END:VCALENDAR