BEGIN:VCALENDAR
VERSION:2.0
PRODID:-//Tu Organización//NONSGML v1.0//EN
BEGIN:VEVENT
UID:69e61efa5bfed@tudominio.com
DTSTAMP:20260420T124130Z
DTSTART:20261216T230000Z
DTEND:20261217T010000Z
SUMMARY:MÚSICA AL CARRER – RAT PACK
DESCRIPTION:De 17:30 h a 20:30 h. Actuació musical itinerant pels carrers comercials per animar les compres nadalenques. Música en directe que crea ambient, atrau visitants i millora l’experiència de compra.
LOCATION:Carrers comercials de Mataró
END:VEVENT
END:VCALENDAR