BEGIN:VCALENDAR
VERSION:2.0
PRODID:-//Tu Organización//NONSGML v1.0//EN
BEGIN:VEVENT
UID:69e9dabc5cb8c@tudominio.com
DTSTAMP:20260423T083924Z
DTSTART:20220726T230000Z
DTEND:20220727T010000Z
SUMMARY:BARRETS SANTES
DESCRIPTION:
LOCATION:
END:VEVENT
END:VCALENDAR